BEGIN:VCALENDAR
VERSION:2.0
PRODID:-//WHL TRUST - ECPv6.15.20//NONSGML v1.0//EN
CALSCALE:GREGORIAN
METHOD:PUBLISH
X-ORIGINAL-URL:https://whltrust.org
X-WR-CALDESC:Events for WHL TRUST
REFRESH-INTERVAL;VALUE=DURATION:PT1H
X-Robots-Tag:noindex
X-PUBLISHED-TTL:PT1H
BEGIN:VTIMEZONE
TZID:America/Chicago
BEGIN:DAYLIGHT
TZOFFSETFROM:-0600
TZOFFSETTO:-0500
TZNAME:CDT
DTSTART:20210314T080000
END:DAYLIGHT
BEGIN:STANDARD
TZOFFSETFROM:-0500
TZOFFSETTO:-0600
TZNAME:CST
DTSTART:20211107T070000
END:STANDARD
BEGIN:DAYLIGHT
TZOFFSETFROM:-0600
TZOFFSETTO:-0500
TZNAME:CDT
DTSTART:20220313T080000
END:DAYLIGHT
BEGIN:STANDARD
TZOFFSETFROM:-0500
TZOFFSETTO:-0600
TZNAME:CST
DTSTART:20221106T070000
END:STANDARD
BEGIN:DAYLIGHT
TZOFFSETFROM:-0600
TZOFFSETTO:-0500
TZNAME:CDT
DTSTART:20230312T080000
END:DAYLIGHT
BEGIN:STANDARD
TZOFFSETFROM:-0500
TZOFFSETTO:-0600
TZNAME:CST
DTSTART:20231105T070000
END:STANDARD
END:VTIMEZONE
BEGIN:VEVENT
DTSTART;VALUE=DATE:20221103
DTEND;VALUE=DATE:20221105
DTSTAMP:20260421T044850
CREATED:20220715T190816Z
LAST-MODIFIED:20221013T154411Z
UID:10000197-1667433600-1667606399@whltrust.org
SUMMARY:2022 Well-being Retreat
DESCRIPTION:Announcing the 2nd annual TRUST Well-being Retreat. \nDon’t miss this opportunity to unwind and connect with fellow women leaders on \nNovember 3-4 \nat the Hotel Landing in Wayzata\, Minn. \nParticipants will create their path through a variety of well-being activities focused on: \n\nMindfulness – Enhance\, open and stretch with the mind.\nMovement – Move\, relax and stretch the body.\nResilience – Expand and learn strategies for being resilient in challenging times.\n\nSpace is limited\, so don’t delay registering! \n $325 Registration includes Event and Hotel accommodations. \n\n**This is a TRUST Members only event \n\nThank you to our TRUST 2022 Corporate Sponsors: \nDiamond:\nUnitedHealth Group | UnitedHealthcare | Optum \nGold:\nBlue Cross Blue Shield of Minnesota • HealthPartners Park Nicollet \nWell-Being Retreat Sponsors:\nAssociated Healthcare Credit Union • Davis • Hazelden Betty Ford Foundation
URL:https://whltrust.org/event/2022-well-being-retreat/
LOCATION:Hotel Landing\, 925 LAKE STREET EAST\, WAYZATA\, MN\, 55391\, United States
ATTACH;FMTTYPE=image/jpeg:https://whltrust.org/wp-content/uploads/2022/07/iStock-1323129896.jpg
ORGANIZER;CN="TRUST Associate Board":MAILTO:hblush@whltrust.org
END:VEVENT
END:VCALENDAR