BEGIN:VCALENDAR
VERSION:2.0
PRODID:-//WHL TRUST - ECPv6.15.20//NONSGML v1.0//EN
CALSCALE:GREGORIAN
METHOD:PUBLISH
X-WR-CALNAME:WHL TRUST
X-ORIGINAL-URL:https://whltrust.org
X-WR-CALDESC:Events for WHL TRUST
REFRESH-INTERVAL;VALUE=DURATION:PT1H
X-Robots-Tag:noindex
X-PUBLISHED-TTL:PT1H
BEGIN:VTIMEZONE
TZID:America/Chicago
BEGIN:DAYLIGHT
TZOFFSETFROM:-0600
TZOFFSETTO:-0500
TZNAME:CDT
DTSTART:20210314T080000
END:DAYLIGHT
BEGIN:STANDARD
TZOFFSETFROM:-0500
TZOFFSETTO:-0600
TZNAME:CST
DTSTART:20211107T070000
END:STANDARD
BEGIN:DAYLIGHT
TZOFFSETFROM:-0600
TZOFFSETTO:-0500
TZNAME:CDT
DTSTART:20220313T080000
END:DAYLIGHT
BEGIN:STANDARD
TZOFFSETFROM:-0500
TZOFFSETTO:-0600
TZNAME:CST
DTSTART:20221106T070000
END:STANDARD
BEGIN:DAYLIGHT
TZOFFSETFROM:-0600
TZOFFSETTO:-0500
TZNAME:CDT
DTSTART:20230312T080000
END:DAYLIGHT
BEGIN:STANDARD
TZOFFSETFROM:-0500
TZOFFSETTO:-0600
TZNAME:CST
DTSTART:20231105T070000
END:STANDARD
END:VTIMEZONE
BEGIN:VEVENT
DTSTART;TZID=America/Chicago:20221208T173000
DTEND;TZID=America/Chicago:20221208T190000
DTSTAMP:20260421T061129
CREATED:20220819T200636Z
LAST-MODIFIED:20221128T183447Z
UID:10000201-1670520600-1670526000@whltrust.org
SUMMARY:Speaking the Language of Your Emotions
DESCRIPTION:Presented by Roberta Fernandez\, BCH\, CI\, IEIS \nDate: Thursday\, December 8\, 2022\nTime: 5:30 PM – 7:00 PM\nLocation: EisnerAmper’s Minneapolis Office\n2501 Wayzata Blvd\, Minneapolis\, MN 55405 \nMasks are welcomed\, but not required. \nParents teach children about the “birds and the bees”\, but rarely do they educate about emotions. All emotions are good! Emotions drive most behaviors\, so if you aren’t getting what you want\, they are the place to look to solve your problems. Understanding emotions are at the core of increasing your EQ or Emotional Intelligence\, an essential quality for improving your personal and business relationships\, and for becoming an effective leader. \nJoin Roberta Fernandez in this 90-minute in-person seminar. It is the perfect follow up\, or stand-alone topic\, to the presentation she gave last April on understanding how your complex mind processes information\, forms habits and creates change. You can view it with this link: Using Your Mind\, Your Most Powerful Tool (April 13). \nHere’s how you will benefit: \n\nLearn the language of your internal GPS system\nBreak down emotions into their simplest form and purpose\nIdentify the consequences of distractors\nExplore how this language can improve your EQ and your relationships\nReceive a valuable handout and reconnect to Conscious Napping®\n\nYou’ll have the plenty of time for questions and discussion as the material is presented. \nAbout Roberta Fernandez\, BCH\, CI\, IEIS \nRoberta is in her 10th year of practice as a Board Certified Hypnotist. She is a Certified Instructor who has taught nurses\, therapists and other professionals how to use hypnotism to help others. She is a Master Practitioner in NLP (Neurolinguistics Programming) and Certified in Complementary Medical Hypnosis. She has written two professional books and just completed her first novel. She is the Founder and President of FARE Hypnosis and of Conscious Napping\, Inc. \nRoberta has been an entrepreneur since her mid-twenties. Before becoming a hypnotist\, she worked as a mentor and trainer in Al Gore’s Climate Project\, and as a consultant and corporate trainer in organizational change and emotional intelligence. \n\n  \n**This is a TRUST Members only event \n\nThank you to our TRUST 2022 Corporate Sponsors: UnitedHealth Group | UnitedHealthcare | Optum\,  \nBlue Cross Blue Shield of Minnesota  \nHealthPartners Park Nicollet
URL:https://whltrust.org/event/trust-wellbeing-series-speaking-the-language-of-your-emotions/
CATEGORIES:Wellbeing
ATTACH;FMTTYPE=image/png:https://whltrust.org/wp-content/uploads/2022/11/Roberta-Fernandez.png
END:VEVENT
BEGIN:VEVENT
DTSTART;TZID=America/Chicago:20221115T173000
DTEND;TZID=America/Chicago:20221115T193000
DTSTAMP:20260421T061129
CREATED:20220819T211105Z
LAST-MODIFIED:20220926T135037Z
UID:10000202-1668533400-1668540600@whltrust.org
SUMMARY:Wellbeing Series - You Are Worth It: Let Nothing Hold You Back
DESCRIPTION:Presented by Louise Griffith\, M.A \nDate: Tuesday\, November 15\, 2022\nTime: 5:30 PM – 7:30 PM\nLocation: In-person event at Prime Therapeutics – 2900 Ames Crossing Rd\, Eagan\, MN 55121 \nThe first 30 minutes of the event will be dedicated to networking opportunities. \nMasks are welcomed\, but not required. \nYou will leave with an empowered plan to: \n\nUnlock your obstacles and challenge thought patterns that hold you back\nBecome the author of your own story\, choosing to be victor rather than a victim\nDevelop the courage to open yourself to different ways of thinking about your worth and value\nStep into your potential and experience the magnificence of who YOU truly are\n\nYour participation can change the outcomes of your life! – Aren’t you worth it? \nLouise Griffith of One Shining Light\, an internationally recognized speaker\, success coach\, author and psychologist of 28 years\, empowers her clients to get clear about what they want and then achieve it. She works with people who want to understand what makes them tick and motivates them to take action in a positive and productive way. Her training deals with the core issues that stand in the way of performance and how people can be their best on a daily basis. \n\n**This is a TRUST Members only event \n\nThank you to our TRUST 2022 Corporate Sponsors: UnitedHealth Group | UnitedHealthcare | Optum\,  \nBlue Cross Blue Shield of Minnesota  \nHealthPartners Park Nicollet
URL:https://whltrust.org/event/wellbeing-series-you-are-worth-it-let-nothing-hold-you-back/
CATEGORIES:Wellbeing
ATTACH;FMTTYPE=image/jpeg:https://whltrust.org/wp-content/uploads/2022/08/Louise-Griffith-Branding-Session-crop-Copy-scaled.jpg
END:VEVENT
END:VCALENDAR