BEGIN:VCALENDAR
VERSION:2.0
PRODID:-//WHL TRUST - ECPv6.15.20//NONSGML v1.0//EN
CALSCALE:GREGORIAN
METHOD:PUBLISH
X-ORIGINAL-URL:https://whltrust.org
X-WR-CALDESC:Events for WHL TRUST
REFRESH-INTERVAL;VALUE=DURATION:PT1H
X-Robots-Tag:noindex
X-PUBLISHED-TTL:PT1H
BEGIN:VTIMEZONE
TZID:America/Chicago
BEGIN:DAYLIGHT
TZOFFSETFROM:-0600
TZOFFSETTO:-0500
TZNAME:CDT
DTSTART:20210314T080000
END:DAYLIGHT
BEGIN:STANDARD
TZOFFSETFROM:-0500
TZOFFSETTO:-0600
TZNAME:CST
DTSTART:20211107T070000
END:STANDARD
BEGIN:DAYLIGHT
TZOFFSETFROM:-0600
TZOFFSETTO:-0500
TZNAME:CDT
DTSTART:20220313T080000
END:DAYLIGHT
BEGIN:STANDARD
TZOFFSETFROM:-0500
TZOFFSETTO:-0600
TZNAME:CST
DTSTART:20221106T070000
END:STANDARD
BEGIN:DAYLIGHT
TZOFFSETFROM:-0600
TZOFFSETTO:-0500
TZNAME:CDT
DTSTART:20230312T080000
END:DAYLIGHT
BEGIN:STANDARD
TZOFFSETFROM:-0500
TZOFFSETTO:-0600
TZNAME:CST
DTSTART:20231105T070000
END:STANDARD
END:VTIMEZONE
BEGIN:VEVENT
DTSTART;TZID=America/Chicago:20220913T170000
DTEND;TZID=America/Chicago:20220913T180000
DTSTAMP:20260421T061840
CREATED:20220630T170850Z
LAST-MODIFIED:20220823T182232Z
UID:10000189-1663088400-1663092000@whltrust.org
SUMMARY:Virtual Book Club: The 10 Minute Leadership Challenge with author Margaret Smith 
DESCRIPTION:  \nTuesday\, September 13\, 2022. 5:00 PM – 6:00 PM. \nExperience the 10 attributes of successful and inspiring leaders.  Based on the book authored by the speaker\, “The Ten Minute Leadership Challenge”\, you will learn the importance of these attributes and easy\, simple methods for demonstrating them and building your expertise. \n \nMargaret B. Smith is a career coach\, educator\, speaker\, author and the founder of UXL.  Her clients share a desire to develop leadership and management skills\, learn how to achieve their goals and help others grow.  She taps into her extensive business experience as she addresses contemporary workplace challenges.  Her passion for guiding her clients towards reaching their full potential and deliver results for their organization is what drives her. \nMargaret is a retired Business Director for 3M and currently vice chair of Women’s Business Bridge\, a program for entrepreneurs in the St Croix Valley sponsored by the Stillwater\, MN Chamber of Commerce\, was nominated as a Business Woman of the Year in her community and nominated for the Woman in Business award by the Minneapolis St Paul Business Journal. \n  \nCheck out Margaret’s book: The 10-Minute Leadership Challenge \n  \n\n**This is a TRUST Members only event \n\nThank you to our TRUST 2022 Corporate Sponsors: UnitedHealth Group | UnitedHealthcare | Optum\,  \nBlue Cross Blue Shield of Minnesota  \nHealthPartners Park Nicollet
URL:https://whltrust.org/event/trust-virtual-book-club-the-10-minute-leadership-challenge/
CATEGORIES:Book Club
ATTACH;FMTTYPE=image/jpeg:https://whltrust.org/wp-content/uploads/2022/06/MBSmith-2-photo-scaled-e1656618759124.jpg
END:VEVENT
BEGIN:VEVENT
DTSTART;TZID=America/Chicago:20220331T180000
DTEND;TZID=America/Chicago:20220331T190000
DTSTAMP:20260421T061840
CREATED:20220222T182800Z
LAST-MODIFIED:20220322T033907Z
UID:10000142-1648749600-1648753200@whltrust.org
SUMMARY:TRUST Virtual Book Club: Happier No Matter What with author Dr. Tal Ben-Shahar
DESCRIPTION:TRUST Virtual Book Club: Happier No Matter What with author Dr. Tal Ben-Shahar    \n**** Open to TRUST Members and Non-Members**** \n  \nJoin us for a virtual one-hour discussion with Dr. Tal Ben Shahar’s on his newest book\, Happier No Matter What. A must-read for cultivating hope\, resilience\, and purpose in hard times such as these. \nDuring our time together\, Dr Tal Ben Shar will provide an overview of the book and you will have the opportunity to participate in small breakout sessions. \nBreak Out Sessions will focus on the five core elements that indirectly lead to happiness and how to self-evaluate them. These five elements make up the acronym SPIRE:\n• Spiritual\n• Physical\n• Intellectual\n• Relational\n• Emotional \nWe look forward to promoting TRUST member learning\, networking\, and your wellbeing while hosting such an esteemed author of leadership and positive psychology. \nFind this book or Dr. Tal’s other books including: Short Cuts to Happiness\, The Joy of Leadership\, Choose the Life You Want\, Happier\, Even Happier\, Being Happy on Amazon using this link.  \nAbout the author: \nTal Ben-Shahar born 1970\, is an American and Israeli teacher\, and writer in the areas of positive psychology and leadership. As a lecturer at Harvard University\, Dr. Ben-Shahar created the most popular course in Harvard’s history. He has subsequently written several best-selling books and in 2011 co-founded Potentialife with Angus Ridgway\, a company that provides leadership programs based on the science of behavioral change to organizations\, schools and sports organizations globally. \nThank you to our TRUST 2021 Corporate Sponsors: UnitedHealth Group | UnitedHealthcare | Optum  \nBlue Cross Blue Shield of Minnesota  \nSt. Catherine University     
URL:https://whltrust.org/event/trust-virtual-book-club-happier-no-matter-what-with-author-dr-tal-ben-shahar/
CATEGORIES:Book Club
ATTACH;FMTTYPE=image/jpeg:https://whltrust.org/wp-content/uploads/2022/02/Happier-Book-Cover.jpg
END:VEVENT
END:VCALENDAR